BEGIN:VCALENDAR
VERSION:2.0
PRODID:-//eventon.com NONSGML v1.0//EN
CALSCALE:GREGORIAN
METHOD:PUBLISH
BEGIN:VEVENT
UID:69e4ddee4e611
DTSTAMP:20260419T135142Z
DTSTART:20240620
DTEND:20240621
LOCATION:
SUMMARY:Formation
DESCRIPTION:Les pratiques professionnelles à la lumière des neurosciences
  Quand ? le 20 juin\nhttps://eduensemble.org/events/formation-15/
URL:https://eduensemble.org/events/formation-15/
END:VEVENT
END:VCALENDAR