BEGIN:VCALENDAR
VERSION:2.0
PRODID:-//eventon.com NONSGML v1.0//EN
CALSCALE:GREGORIAN
METHOD:PUBLISH
BEGIN:VEVENT
UID:69e93d286bbf3
DTSTAMP:20260422T212704Z
DTSTART:20230116T100000Z
DTEND:20230116T160000Z
LOCATION:
SUMMARY:Événement de Dotation d’Action Territoriale
DESCRIPTION:Événement de Dotation d’Action Territoriale\nhttps://eduens
 emble.org/events/dotation-daction-territoriale/
URL:https://eduensemble.org/events/dotation-daction-territoriale/
END:VEVENT
END:VCALENDAR