BEGIN:VCALENDAR
VERSION:2.0
PRODID:-//eventon.com NONSGML v1.0//EN
CALSCALE:GREGORIAN
METHOD:PUBLISH
BEGIN:VEVENT
UID:69e77671c78d5
DTSTAMP:20260421T130657Z
DTSTART:20230114T100000Z
DTEND:20230114T150000Z
LOCATION:
SUMMARY:Assemblée Générale
DESCRIPTION:Assemblée Générale\nhttps://eduensemble.org/events/assemblee
 -generale/
URL:https://eduensemble.org/events/assemblee-generale/
END:VEVENT
END:VCALENDAR